BEGIN:VCALENDAR
VERSION:2.0
PRODID:-//Deine Küstenmagier - ECPv6.15.20//NONSGML v1.0//EN
CALSCALE:GREGORIAN
METHOD:PUBLISH
X-WR-CALNAME:Deine Küstenmagier
X-ORIGINAL-URL:https://kuestenmagier.de
X-WR-CALDESC:Veranstaltungen für Deine Küstenmagier
REFRESH-INTERVAL;VALUE=DURATION:PT1H
X-Robots-Tag:noindex
X-PUBLISHED-TTL:PT1H
BEGIN:VTIMEZONE
TZID:Europe/Paris
BEGIN:DAYLIGHT
TZOFFSETFROM:+0100
TZOFFSETTO:+0200
TZNAME:CEST
DTSTART:20240331T010000
END:DAYLIGHT
BEGIN:STANDARD
TZOFFSETFROM:+0200
TZOFFSETTO:+0100
TZNAME:CET
DTSTART:20241027T010000
END:STANDARD
BEGIN:DAYLIGHT
TZOFFSETFROM:+0100
TZOFFSETTO:+0200
TZNAME:CEST
DTSTART:20250330T010000
END:DAYLIGHT
BEGIN:STANDARD
TZOFFSETFROM:+0200
TZOFFSETTO:+0100
TZNAME:CET
DTSTART:20251026T010000
END:STANDARD
BEGIN:DAYLIGHT
TZOFFSETFROM:+0100
TZOFFSETTO:+0200
TZNAME:CEST
DTSTART:20260329T010000
END:DAYLIGHT
BEGIN:STANDARD
TZOFFSETFROM:+0200
TZOFFSETTO:+0100
TZNAME:CET
DTSTART:20261025T010000
END:STANDARD
END:VTIMEZONE
BEGIN:VEVENT
DTSTART;TZID=Europe/Paris:20250920T113000
DTEND;TZID=Europe/Paris:20250920T120000
DTSTAMP:20260422T182844
CREATED:20250909T091816Z
LAST-MODIFIED:20250909T093818Z
UID:25989-1758367800-1758369600@kuestenmagier.de
SUMMARY:Kinder-Zauberauftritt Teil 1
DESCRIPTION:Der Zauberer und sein Zauberlehrling \nDer große Meister hat wirklich Pech mit seinem Zauberlehrling. Der hat nämlich nichts als Unfug im Kopf und bringt den Zauberer oftmals in peinliche Situationen. Als Lehrling nimmt er das Lernen nicht wirklich ernst\, bringt lieber die Kinder zum Lachen und treibt Schabernack mit seinem Meister. Kein Wunder\, dass er seit drei Jahren im ersten Lehrjahr ist… \nDie Darbietung dauert etwa 55-Minuten und ist für Kinder von 5-9 Jahren geeignet (Erwachsene sind selbstverständlich ebenso willkommen).\nAm 20.September wird das Programm in 2 Teilen gezeigt:\n– Teil 1 von 11:30 – 12:00 Uhr\n– Teil 2 von 12:45 – 13:15 Uhr
URL:https://kuestenmagier.de/event/kinder-zauberauftritt-teil-1-2/
LOCATION:Kirchplatz Wittmund\, Am Kirchplatz\, Wittmund\, 26409\, Deutschland
CATEGORIES:Kinder-Zauberprogramm
END:VEVENT
BEGIN:VEVENT
DTSTART;TZID=Europe/Paris:20250920T124500
DTEND;TZID=Europe/Paris:20250920T131500
DTSTAMP:20260422T182844
CREATED:20250909T094033Z
LAST-MODIFIED:20250909T094033Z
UID:26000-1758372300-1758374100@kuestenmagier.de
SUMMARY:Kinder-Zauberauftritt Teil 2
DESCRIPTION:Der Zauberer und sein Zauberlehrling \nDer große Meister hat wirklich Pech mit seinem Zauberlehrling. Der hat nämlich nichts als Unfug im Kopf und bringt den Zauberer oftmals in peinliche Situationen. Als Lehrling nimmt er das Lernen nicht wirklich ernst\, bringt lieber die Kinder zum Lachen und treibt Schabernack mit seinem Meister. Kein Wunder\, dass er seit drei Jahren im ersten Lehrjahr ist… \nDie Darbietung dauert etwa 55-Minuten und ist für Kinder von 5-9 Jahren geeignet (Erwachsene sind selbstverständlich ebenso willkommen).\nAm 20.September wird das Programm in 2 Teilen gezeigt:\n– Teil 1 von 11:30 – 12:00 Uhr\n– Teil 2 von 12:45 – 13:15 Uhr
URL:https://kuestenmagier.de/event/kinder-zauberauftritt-teil-2-2/
LOCATION:Kirchplatz Wittmund\, Am Kirchplatz\, Wittmund\, 26409\, Deutschland
CATEGORIES:Kinder-Zauberprogramm
END:VEVENT
END:VCALENDAR