BEGIN:VCALENDAR
VERSION:2.0
PRODID:-//Deine Küstenmagier - ECPv6.15.20//NONSGML v1.0//EN
CALSCALE:GREGORIAN
METHOD:PUBLISH
X-ORIGINAL-URL:https://kuestenmagier.de
X-WR-CALDESC:Veranstaltungen für Deine Küstenmagier
REFRESH-INTERVAL;VALUE=DURATION:PT1H
X-Robots-Tag:noindex
X-PUBLISHED-TTL:PT1H
BEGIN:VTIMEZONE
TZID:Europe/Paris
BEGIN:DAYLIGHT
TZOFFSETFROM:+0100
TZOFFSETTO:+0200
TZNAME:CEST
DTSTART:20240331T010000
END:DAYLIGHT
BEGIN:STANDARD
TZOFFSETFROM:+0200
TZOFFSETTO:+0100
TZNAME:CET
DTSTART:20241027T010000
END:STANDARD
BEGIN:DAYLIGHT
TZOFFSETFROM:+0100
TZOFFSETTO:+0200
TZNAME:CEST
DTSTART:20250330T010000
END:DAYLIGHT
BEGIN:STANDARD
TZOFFSETFROM:+0200
TZOFFSETTO:+0100
TZNAME:CET
DTSTART:20251026T010000
END:STANDARD
BEGIN:DAYLIGHT
TZOFFSETFROM:+0100
TZOFFSETTO:+0200
TZNAME:CEST
DTSTART:20260329T010000
END:DAYLIGHT
BEGIN:STANDARD
TZOFFSETFROM:+0200
TZOFFSETTO:+0100
TZNAME:CET
DTSTART:20261025T010000
END:STANDARD
END:VTIMEZONE
BEGIN:VEVENT
DTSTART;TZID=Europe/Paris:20251031T220000
DTEND;TZID=Europe/Paris:20251031T223000
DTSTAMP:20260422T152922
CREATED:20251023T164219Z
LAST-MODIFIED:20251023T164236Z
UID:26012-1761948000-1761949800@kuestenmagier.de
SUMMARY:ZauberShow
DESCRIPTION:Lassen Sie sich verzaubern! \nErleben Sie eine unvergessliche Zauberveranstaltung\, bei der Realität und Illusion verschwimmen. Freuen Sie sich auf ein professionelles Programm voller kurioser Effekte und klassischer Magie\, präsentiert mit Charme\, Humor und einer ordentlichen Portion Überraschung. \nWir präsentieren ein 30-minütiges Programm bei der „Langen Nacht der Bibel“ in der St.-Magnus-Kirche in Esens
URL:https://kuestenmagier.de/event/zaubershow-copy/
LOCATION:Kirchplatz\, 26427 Esens\, Kirchplatz\, Esens\, 26427
CATEGORIES:Zaubershow für Groß und Klein
END:VEVENT
END:VCALENDAR