BEGIN:VCALENDAR
VERSION:2.0
PRODID:-//Deine Küstenmagier - ECPv6.15.20//NONSGML v1.0//EN
CALSCALE:GREGORIAN
METHOD:PUBLISH
X-ORIGINAL-URL:https://kuestenmagier.de
X-WR-CALDESC:Veranstaltungen für Deine Küstenmagier
REFRESH-INTERVAL;VALUE=DURATION:PT1H
X-Robots-Tag:noindex
X-PUBLISHED-TTL:PT1H
BEGIN:VTIMEZONE
TZID:Europe/Paris
BEGIN:DAYLIGHT
TZOFFSETFROM:+0100
TZOFFSETTO:+0200
TZNAME:CEST
DTSTART:20240331T010000
END:DAYLIGHT
BEGIN:STANDARD
TZOFFSETFROM:+0200
TZOFFSETTO:+0100
TZNAME:CET
DTSTART:20241027T010000
END:STANDARD
BEGIN:DAYLIGHT
TZOFFSETFROM:+0100
TZOFFSETTO:+0200
TZNAME:CEST
DTSTART:20250330T010000
END:DAYLIGHT
BEGIN:STANDARD
TZOFFSETFROM:+0200
TZOFFSETTO:+0100
TZNAME:CET
DTSTART:20251026T010000
END:STANDARD
BEGIN:DAYLIGHT
TZOFFSETFROM:+0100
TZOFFSETTO:+0200
TZNAME:CEST
DTSTART:20260329T010000
END:DAYLIGHT
BEGIN:STANDARD
TZOFFSETFROM:+0200
TZOFFSETTO:+0100
TZNAME:CET
DTSTART:20261025T010000
END:STANDARD
END:VTIMEZONE
BEGIN:VEVENT
DTSTART;TZID=Europe/Paris:20251127T170000
DTEND;TZID=Europe/Paris:20251127T173000
DTSTAMP:20260422T153102
CREATED:20251120T112948Z
LAST-MODIFIED:20251120T112948Z
UID:26017-1764262800-1764264600@kuestenmagier.de
SUMMARY:Zaubershow
DESCRIPTION:TEIL 1: \nMit Auszügen aus unserem Stand-Up-Programm verzaubern wir mit magischen und interaktiven Darbietungen – nicht nur auf der Bühne\, sondern auch mitten im Publikum.\nLassen Sie sich mitreißen von einem professionellen Programm aus kurioser und klassischer Zauberei. Lustige und ernstere Zauberkunststücke bringen das Publikum zum Mitwirken\, Staunen und Lachen. \nDie Darbietung findet im Rittersaal statt.
URL:https://kuestenmagier.de/event/zaubershow-4/
LOCATION:Schloß Dornum\, Schloßstraße 4\, Dornum\, 26553\, Deutschland
CATEGORIES:Zaubershow für Groß und Klein
END:VEVENT
BEGIN:VEVENT
DTSTART;TZID=Europe/Paris:20251127T180000
DTEND;TZID=Europe/Paris:20251127T183000
DTSTAMP:20260422T153102
CREATED:20251120T113232Z
LAST-MODIFIED:20251120T113246Z
UID:26019-1764266400-1764268200@kuestenmagier.de
SUMMARY:Zaubershow
DESCRIPTION:TEIL 2: \nMit Auszügen aus unserem Mentalprogramm verzaubern wir Sie mit einer interaktiven Darbietung und entführen Sie in eine magische Welt voller unglaublicher Ereignisse: Handlungen können vorhergesagt\, Gedanken gelesen und zwischen verschiedenen Personen übertragen werden. \nDie Darbietung findet im Rittersaal statt.
URL:https://kuestenmagier.de/event/zaubershow-copy-2/
LOCATION:Schloß Dornum\, Schloßstraße 4\, Dornum\, 26553\, Deutschland
CATEGORIES:Zaubershow für Groß und Klein
END:VEVENT
END:VCALENDAR