BEGIN:VCALENDAR
VERSION:2.0
PRODID:-//Deine Küstenmagier - ECPv6.15.20//NONSGML v1.0//EN
CALSCALE:GREGORIAN
METHOD:PUBLISH
X-WR-CALNAME:Deine Küstenmagier
X-ORIGINAL-URL:https://kuestenmagier.de
X-WR-CALDESC:Veranstaltungen für Deine Küstenmagier
REFRESH-INTERVAL;VALUE=DURATION:PT1H
X-Robots-Tag:noindex
X-PUBLISHED-TTL:PT1H
BEGIN:VTIMEZONE
TZID:Europe/Paris
BEGIN:DAYLIGHT
TZOFFSETFROM:+0100
TZOFFSETTO:+0200
TZNAME:CEST
DTSTART:20240331T010000
END:DAYLIGHT
BEGIN:STANDARD
TZOFFSETFROM:+0200
TZOFFSETTO:+0100
TZNAME:CET
DTSTART:20241027T010000
END:STANDARD
BEGIN:DAYLIGHT
TZOFFSETFROM:+0100
TZOFFSETTO:+0200
TZNAME:CEST
DTSTART:20250330T010000
END:DAYLIGHT
BEGIN:STANDARD
TZOFFSETFROM:+0200
TZOFFSETTO:+0100
TZNAME:CET
DTSTART:20251026T010000
END:STANDARD
BEGIN:DAYLIGHT
TZOFFSETFROM:+0100
TZOFFSETTO:+0200
TZNAME:CEST
DTSTART:20260329T010000
END:DAYLIGHT
BEGIN:STANDARD
TZOFFSETFROM:+0200
TZOFFSETTO:+0100
TZNAME:CET
DTSTART:20261025T010000
END:STANDARD
END:VTIMEZONE
BEGIN:VEVENT
DTSTART;TZID=Europe/Paris:20251017T150000
DTEND;TZID=Europe/Paris:20251017T160000
DTSTAMP:20260422T152437
CREATED:20250915T153619Z
LAST-MODIFIED:20250915T153619Z
UID:26002-1760713200-1760716800@kuestenmagier.de
SUMMARY:Kinder-Zauberauftritt
DESCRIPTION:Der Zauberer und sein Zauberlehrling \nDer große Meister hat wirklich Pech mit seinem Zauberlehrling. Der hat nämlich nichts als Unfug im Kopf und bringt den Zauberer oftmals in peinliche Situationen. Als Lehrling nimmt er das Lernen nicht wirklich ernst\, bringt lieber die Kinder zum Lachen und treibt Schabernack mit seinem Meister. Kein Wunder\, dass er seit drei Jahren im ersten Lehrjahr ist… \nDie Darbietung dauert etwa 55-Minuten und ist für Kinder von 5-9 Jahren geeignet (Erwachsene sind selbstverständlich ebenso willkommen).
URL:https://kuestenmagier.de/event/kinder-zauberauftritt-13/
LOCATION:Vortragsraum Reethaus Dornumersiel\, Hafenstr. 3\, Dornumersiel\, 26553\, Germany
CATEGORIES:Kinder-Zauberprogramm
END:VEVENT
BEGIN:VEVENT
DTSTART;TZID=Europe/Paris:20251017T193000
DTEND;TZID=Europe/Paris:20251017T213000
DTSTAMP:20260422T152437
CREATED:20250915T160238Z
LAST-MODIFIED:20250915T160238Z
UID:26005-1760729400-1760736600@kuestenmagier.de
SUMMARY:ZauberShow
DESCRIPTION:Lassen Sie sich verzaubern! \nErleben Sie eine unvergessliche Zauberveranstaltung\, bei der Realität und Illusion verschwimmen. Freuen Sie sich auf ein professionelles Programm voller kurioser Effekte und klassischer Magie\, präsentiert mit Charme\, Humor und einer ordentlichen Portion Überraschung. \nDoch die Magie bleibt nicht auf der Bühne – sie kommt direkt zu Ihnen. Interaktive Kunststücke geschehen mitten im Publikum\, ganz nah und zum Greifen nah. \nIm Mentalteil erwartet Sie ein Feuerwerk unglaublicher Ereignisse: Gedanken werden gelesen\, Handlungen vorhergesagt und Botschaften scheinbar telepathisch übertragen. Ein Erlebnis\, das Sie sprachlos zurücklässt – und garantiert für den großen WOW-Effekt sorgt. \nTauchen Sie ein in eine Welt voller Wunder – und lassen Sie sich verzaubern! \n25\,00€ Abendkasse\, 22\,50€ Vorverkauf zzgl. Gebühr \nVorverkauf: https://t1p.de/3iy25\noder QR-Code
URL:https://kuestenmagier.de/event/zaubershow-3/
LOCATION:Vortragsraum Reethaus Dornumersiel\, Hafenstr. 3\, Dornumersiel\, 26553\, Germany
CATEGORIES:Zaubershow für Groß und Klein
END:VEVENT
BEGIN:VEVENT
DTSTART;TZID=Europe/Paris:20251031T220000
DTEND;TZID=Europe/Paris:20251031T223000
DTSTAMP:20260422T152437
CREATED:20251023T164219Z
LAST-MODIFIED:20251023T164236Z
UID:26012-1761948000-1761949800@kuestenmagier.de
SUMMARY:ZauberShow
DESCRIPTION:Lassen Sie sich verzaubern! \nErleben Sie eine unvergessliche Zauberveranstaltung\, bei der Realität und Illusion verschwimmen. Freuen Sie sich auf ein professionelles Programm voller kurioser Effekte und klassischer Magie\, präsentiert mit Charme\, Humor und einer ordentlichen Portion Überraschung. \nWir präsentieren ein 30-minütiges Programm bei der „Langen Nacht der Bibel“ in der St.-Magnus-Kirche in Esens
URL:https://kuestenmagier.de/event/zaubershow-copy/
LOCATION:Kirchplatz\, 26427 Esens\, Kirchplatz\, Esens\, 26427
CATEGORIES:Zaubershow für Groß und Klein
END:VEVENT
END:VCALENDAR